BEGIN:VCALENDAR
VERSION:2.0
PRODID:-//Plone.org//NONSGML plone.app.event//EN
X-WR-TIMEZONE:Europe/Madrid
BEGIN:VEVENT
SUMMARY:Reunió de coordinació amb l'Àrea de Seguretat Ciutadana
DTSTART;TZID=Europe/Madrid;VALUE=DATE-TIME:20220504T090000
DTEND;TZID=Europe/Madrid;VALUE=DATE-TIME:20220504T100000
DTSTAMP;VALUE=DATE-TIME:20260420T203057Z
UID:f26cf7c95b4fefacbe1abc34a2fbd946
CREATED;VALUE=DATE-TIME:20220504T000000Z
CATEGORIES:Agenda institucional
LOCATION:Comissaria de Policia
URL:https://www.canetdemar.cat/document.php?id=22853
END:VEVENT
END:VCALENDAR