BEGIN:VCALENDAR
VERSION:2.0
PRODID:-//Plone.org//NONSGML plone.app.event//EN
X-WR-TIMEZONE:Europe/Madrid
BEGIN:VEVENT
SUMMARY:Reunió de coordinació amb l'Àrea de Seguretat Ciutadana
DTSTART;TZID=Europe/Madrid;VALUE=DATE-TIME:20220427T090000
DTEND;TZID=Europe/Madrid;VALUE=DATE-TIME:20220427T100000
DTSTAMP;VALUE=DATE-TIME:20260420T171324Z
UID:3e8c81fc80144f5ddd1de565376abae4
CREATED;VALUE=DATE-TIME:20220427T000000Z
CATEGORIES:Agenda institucional
LOCATION:Comissaria de Policia
URL:https://www.canetdemar.cat/document.php?id=22852
END:VEVENT
END:VCALENDAR