BEGIN:VCALENDAR
VERSION:2.0
PRODID:-//Plone.org//NONSGML plone.app.event//EN
X-WR-TIMEZONE:Europe/Madrid
BEGIN:VEVENT
SUMMARY:Reunió de coordinació amb l'Àrea de Seguretat Ciutadana
DTSTART;TZID=Europe/Madrid;VALUE=DATE-TIME:20220420T090000
DTEND;TZID=Europe/Madrid;VALUE=DATE-TIME:20220420T100000
DTSTAMP;VALUE=DATE-TIME:20260420T154142Z
UID:53c790812d39dacca8bee1f98d8788d0
CREATED;VALUE=DATE-TIME:20220420T000000Z
CATEGORIES:Agenda institucional
LOCATION:Comissaria de Policia
URL:https://www.canetdemar.cat/document.php?id=22851
END:VEVENT
END:VCALENDAR