BEGIN:VCALENDAR
VERSION:2.0
PRODID:-//Plone.org//NONSGML plone.app.event//EN
X-WR-TIMEZONE:Europe/Madrid
BEGIN:VEVENT
SUMMARY:Reunió amb una veïna de Canet
DTSTART;TZID=Europe/Madrid;VALUE=DATE-TIME:20220405T090000
DTEND;TZID=Europe/Madrid;VALUE=DATE-TIME:20220405T100000
DTSTAMP;VALUE=DATE-TIME:20260420T141257Z
UID:290771337db15824aa61380e09a88801
CREATED;VALUE=DATE-TIME:20220405T000000Z
CATEGORIES:Agenda institucional
LOCATION:Sala annexa Alcaldia
URL:https://www.canetdemar.cat/document.php?id=22848
END:VEVENT
END:VCALENDAR