BEGIN:VCALENDAR
VERSION:2.0
PRODID:-//Plone.org//NONSGML plone.app.event//EN
X-WR-TIMEZONE:Europe/Madrid
BEGIN:VEVENT
SUMMARY:Assistència a la inauguració local de la Colla Castellera de l'Alt Maresme i la Selva Marítima
DTSTART;TZID=Europe/Madrid;VALUE=DATE-TIME:20220402T201500
DTEND;TZID=Europe/Madrid;VALUE=DATE-TIME:20220402T211500
DTSTAMP;VALUE=DATE-TIME:20260420T141356Z
UID:f4a562c0745363abe1e013c6d5b9cd89
CREATED;VALUE=DATE-TIME:20220402T000000Z
CATEGORIES:Agenda institucional
LOCATION:Pineda de Mar
URL:https://www.canetdemar.cat/document.php?id=22846
END:VEVENT
END:VCALENDAR