BEGIN:VCALENDAR
VERSION:2.0
PRODID:-//Plone.org//NONSGML plone.app.event//EN
X-WR-TIMEZONE:Europe/Madrid
BEGIN:VEVENT
SUMMARY:Assitència al Torneig de Petanca del dia de la Dona
DTSTART;TZID=Europe/Madrid;VALUE=DATE-TIME:20220402T094500
DTEND;TZID=Europe/Madrid;VALUE=DATE-TIME:20220402T104500
DTSTAMP;VALUE=DATE-TIME:20260420T151836Z
UID:0be41b877f891d9348b9f13910bfd516
CREATED;VALUE=DATE-TIME:20220402T000000Z
CATEGORIES:Agenda institucional
LOCATION:Club de botxes
URL:https://www.canetdemar.cat/document.php?id=22845
END:VEVENT
END:VCALENDAR