BEGIN:VCALENDAR
VERSION:2.0
PRODID:-//Plone.org//NONSGML plone.app.event//EN
X-WR-TIMEZONE:Europe/Madrid
BEGIN:VEVENT
SUMMARY:Reunió amb un veí del municipi
DTSTART;TZID=Europe/Madrid;VALUE=DATE-TIME:20220401T110000
DTEND;TZID=Europe/Madrid;VALUE=DATE-TIME:20220401T120000
DTSTAMP;VALUE=DATE-TIME:20260420T184718Z
UID:0bce97a50111b0341506252e3054eb5d
CREATED;VALUE=DATE-TIME:20220401T000000Z
CATEGORIES:Agenda institucional
LOCATION:Sala annexa Alcaldia
URL:https://www.canetdemar.cat/document.php?id=22844
END:VEVENT
END:VCALENDAR