BEGIN:VCALENDAR
VERSION:2.0
PRODID:-//Plone.org//NONSGML plone.app.event//EN
X-WR-TIMEZONE:Europe/Madrid
BEGIN:VEVENT
SUMMARY:Reunió de coordinació amb l'Àrea de Brigada d'Obres i Serveis
DTSTART;TZID=Europe/Madrid;VALUE=DATE-TIME:20220527T080000
DTEND;TZID=Europe/Madrid;VALUE=DATE-TIME:20220527T090000
DTSTAMP;VALUE=DATE-TIME:20260421T012126Z
UID:93fd27576b57304ee2fa7853cbfe0d13
CREATED;VALUE=DATE-TIME:20220527T000000Z
CATEGORIES:Agenda institucional
LOCATION:Nau de la brigada municipal
URL:https://www.canetdemar.cat/document.php?id=22843
END:VEVENT
END:VCALENDAR