BEGIN:VCALENDAR
VERSION:2.0
PRODID:-//Plone.org//NONSGML plone.app.event//EN
X-WR-TIMEZONE:Europe/Madrid
BEGIN:VEVENT
SUMMARY:Reunió de coordinació amb l'Àrea de Brigada d'Obres i Serveis
DTSTART;TZID=Europe/Madrid;VALUE=DATE-TIME:20220520T080000
DTEND;TZID=Europe/Madrid;VALUE=DATE-TIME:20220520T090000
DTSTAMP;VALUE=DATE-TIME:20260420T190912Z
UID:b109399995a5bcd0b02619415cb6345e
CREATED;VALUE=DATE-TIME:20220520T000000Z
CATEGORIES:Agenda institucional
LOCATION:Nau de la brigada municipal
URL:https://www.canetdemar.cat/document.php?id=22840
END:VEVENT
END:VCALENDAR