BEGIN:VCALENDAR
VERSION:2.0
PRODID:-//Plone.org//NONSGML plone.app.event//EN
X-WR-TIMEZONE:Europe/Madrid
BEGIN:VEVENT
SUMMARY:Reunió de coordinació amb l'Àrea de Brigada d'Obres i Serveis
DTSTART;TZID=Europe/Madrid;VALUE=DATE-TIME:20220513T080000
DTEND;TZID=Europe/Madrid;VALUE=DATE-TIME:20220513T090000
DTSTAMP;VALUE=DATE-TIME:20260420T172337Z
UID:3bb1f48af0bbb4abe1155b6122938c5d
CREATED;VALUE=DATE-TIME:20220513T000000Z
CATEGORIES:Agenda institucional
LOCATION:Nau de la brigada municipal
URL:https://www.canetdemar.cat/document.php?id=22839
END:VEVENT
END:VCALENDAR