BEGIN:VCALENDAR
VERSION:2.0
PRODID:-//Plone.org//NONSGML plone.app.event//EN
X-WR-TIMEZONE:Europe/Madrid
BEGIN:VEVENT
SUMMARY:Reunió de coordinació amb l'Àrea de Brigada d'Obres i Serveis
DTSTART;TZID=Europe/Madrid;VALUE=DATE-TIME:20220429T080000
DTEND;TZID=Europe/Madrid;VALUE=DATE-TIME:20220429T090000
DTSTAMP;VALUE=DATE-TIME:20260420T172209Z
UID:afb9ebd11f8d908974bb40240ffb9926
CREATED;VALUE=DATE-TIME:20220429T000000Z
CATEGORIES:Agenda institucional
LOCATION:Nau de la brigada municipal
URL:https://www.canetdemar.cat/document.php?id=22837
END:VEVENT
END:VCALENDAR