BEGIN:VCALENDAR
VERSION:2.0
PRODID:-//Plone.org//NONSGML plone.app.event//EN
X-WR-TIMEZONE:Europe/Madrid
BEGIN:VEVENT
SUMMARY:Reunió de coordinació amb l'Àrea de Brigada d'Obres i Serveis
DTSTART;TZID=Europe/Madrid;VALUE=DATE-TIME:20220422T080000
DTEND;TZID=Europe/Madrid;VALUE=DATE-TIME:20220422T090000
DTSTAMP;VALUE=DATE-TIME:20260420T154044Z
UID:92625747d4482c85a1c6e68258eb0f62
CREATED;VALUE=DATE-TIME:20220422T000000Z
CATEGORIES:Agenda institucional
LOCATION:Nau de la brigada municipal
URL:https://www.canetdemar.cat/document.php?id=22836
END:VEVENT
END:VCALENDAR