BEGIN:VCALENDAR
VERSION:2.0
PRODID:-//Plone.org//NONSGML plone.app.event//EN
X-WR-TIMEZONE:Europe/Madrid
BEGIN:VEVENT
SUMMARY:Reunió de coordinació amb l'Àrea de Brigada d'Obres i Serveis
DTSTART;TZID=Europe/Madrid;VALUE=DATE-TIME:20220401T080000
DTEND;TZID=Europe/Madrid;VALUE=DATE-TIME:20220401T090000
DTSTAMP;VALUE=DATE-TIME:20260420T151929Z
UID:29e7d4560528e19e3d95f90c71efc3a2
CREATED;VALUE=DATE-TIME:20220401T000000Z
CATEGORIES:Agenda institucional
LOCATION:Nau de la brigada municipal
URL:https://www.canetdemar.cat/document.php?id=22834
END:VEVENT
END:VCALENDAR