BEGIN:VCALENDAR
VERSION:2.0
PRODID:-//Plone.org//NONSGML plone.app.event//EN
X-WR-TIMEZONE:Europe/Madrid
BEGIN:VEVENT
SUMMARY:Vermutsicals: A Munt Jazz Band
DTSTART;TZID=Europe/Madrid;VALUE=DATE-TIME:20220515T123000
DTEND;TZID=Europe/Madrid;VALUE=DATE-TIME:20220515T133000
DTSTAMP;VALUE=DATE-TIME:20260422T201220Z
UID:434f14e12af9001ec82a866c03e5b4eb
CREATED;VALUE=DATE-TIME:20220515T000000Z
CATEGORIES:Música
LOCATION:Pati Escola de Teixits de Canet
ORGANIZER:Associació Cultural Plataforma Odèon
COMMENT:Preu: Entrada lliure
Durada: 2 hores
DESCRIPTION:Concert + Vermut
URL:https://www.canetdemar.cat/document.php?id=22781
END:VEVENT
END:VCALENDAR