BEGIN:VCALENDAR
VERSION:2.0
PRODID:-//Plone.org//NONSGML plone.app.event//EN
X-WR-TIMEZONE:Europe/Madrid
BEGIN:VEVENT
SUMMARY:Donació de sang
DTSTART;TZID=Europe/Madrid;VALUE=DATE-TIME:20220409T100000
DTEND;TZID=Europe/Madrid;VALUE=DATE-TIME:20220409T110000
DTSTAMP;VALUE=DATE-TIME:20260423T034528Z
UID:0342fa28de1d375dad5f0f36d7fc65b2
CREATED;VALUE=DATE-TIME:20220409T000000Z
LOCATION:EspaiCaixa Gent Gran
URL:https://www.canetdemar.cat/document.php?id=22748
END:VEVENT
END:VCALENDAR