BEGIN:VCALENDAR
VERSION:2.0
PRODID:-//Plone.org//NONSGML plone.app.event//EN
X-WR-TIMEZONE:Europe/Madrid
BEGIN:VEVENT
SUMMARY:7a trobada Sisè Sentit i Institut del Teatre
DTSTART;TZID=Europe/Madrid;VALUE=DATE-TIME:20220430T180000
DTEND;TZID=Europe/Madrid;VALUE=DATE-TIME:20220430T190000
DTSTAMP;VALUE=DATE-TIME:20260419T154920Z
UID:39996411d23a8f923ca633f8982192fc
CREATED;VALUE=DATE-TIME:20220430T000000Z
CATEGORIES:Dansa
COMMENT:Durada: 90 minuts
DESCRIPTION:Programació temporada inaugural del TMC
URL:https://www.canetdemar.cat/document.php?id=22721
END:VEVENT
END:VCALENDAR