BEGIN:VCALENDAR
VERSION:2.0
PRODID:-//Plone.org//NONSGML plone.app.event//EN
X-WR-TIMEZONE:Europe/Madrid
BEGIN:VEVENT
SUMMARY:ACPO cinema: Otra ronda
DTSTART;TZID=Europe/Madrid;VALUE=DATE-TIME:20220508T190000
DTEND;TZID=Europe/Madrid;VALUE=DATE-TIME:20220508T200000
DTSTAMP;VALUE=DATE-TIME:20260424T054659Z
UID:46f880ff882ebe1adeb4e802786af9d9
CREATED;VALUE=DATE-TIME:20220508T000000Z
CATEGORIES:Cinema
LOCATION:Sala Centru del TMC
ORGANIZER:ACPO Cinema /TMC
COMMENT:Preu: Taquilla: 6&euro;. Anticipada 5&euro;. Abonament 3FC 10&euro;
URL:https://www.canetdemar.cat/document.php?id=22714
END:VEVENT
END:VCALENDAR