BEGIN:VCALENDAR
VERSION:2.0
PRODID:-//Plone.org//NONSGML plone.app.event//EN
X-WR-TIMEZONE:Europe/Madrid
BEGIN:VEVENT
SUMMARY:Reunió amb el Director del Fons Català de Cooperació
DTSTART;TZID=Europe/Madrid;VALUE=DATE-TIME:20220324T113000
DTEND;TZID=Europe/Madrid;VALUE=DATE-TIME:20220324T123000
DTSTAMP;VALUE=DATE-TIME:20260421T012632Z
UID:3fed028b2fdf679e419652c50cc0c8a4
CREATED;VALUE=DATE-TIME:20220324T000000Z
CATEGORIES:Agenda institucional
LOCATION:Sala annexa Alcaldia
URL:https://www.canetdemar.cat/document.php?id=22706
END:VEVENT
END:VCALENDAR