BEGIN:VCALENDAR
VERSION:2.0
PRODID:-//Plone.org//NONSGML plone.app.event//EN
X-WR-TIMEZONE:Europe/Madrid
BEGIN:VEVENT
SUMMARY:Ruta dels indians (americanos) i el cementiri
DTSTART;TZID=Europe/Madrid;VALUE=DATE-TIME:20220611T110000
DTEND;TZID=Europe/Madrid;VALUE=DATE-TIME:20220611T120000
DTSTAMP;VALUE=DATE-TIME:20260422T182618Z
UID:1bf65156a9b7513884f946716e0ba09c
CREATED;VALUE=DATE-TIME:20220611T000000Z
LOCATION:Punt de trobada : Casa museu Lluís Domènech i Montaner
ORGANIZER:Àrea de Cultura - Ajuntament de Canet de Mar
COMMENT:Preu: 10&euro; (descomptes jubilats, estudiants i carnet de biblioteca 6&euro;)
Durada: 2 hores aprox.
URL:https://www.canetdemar.cat/document.php?id=22683
END:VEVENT
END:VCALENDAR