BEGIN:VCALENDAR
VERSION:2.0
PRODID:-//Plone.org//NONSGML plone.app.event//EN
X-WR-TIMEZONE:Europe/Madrid
BEGIN:VEVENT
SUMMARY:Assistència al sorteig de la campanya 'Comerç Verd'
DTSTART;TZID=Europe/Madrid;VALUE=DATE-TIME:20220315T123000
DTEND;TZID=Europe/Madrid;VALUE=DATE-TIME:20220315T133000
DTSTAMP;VALUE=DATE-TIME:20260420T170424Z
UID:bbdecc2d0fdc4e2966b3710307b8fa72
CREATED;VALUE=DATE-TIME:20220315T000000Z
CATEGORIES:Agenda institucional
LOCATION:Sala de plens
URL:https://www.canetdemar.cat/document.php?id=22673
END:VEVENT
END:VCALENDAR