BEGIN:VCALENDAR
VERSION:2.0
PRODID:-//Plone.org//NONSGML plone.app.event//EN
X-WR-TIMEZONE:Europe/Madrid
BEGIN:VEVENT
SUMMARY:MESA VALORACIÓ
DTSTART;TZID=Europe/Madrid;VALUE=DATE-TIME:20220315T120000
DTEND;TZID=Europe/Madrid;VALUE=DATE-TIME:20220315T130000
DTSTAMP;VALUE=DATE-TIME:20260420T170409Z
UID:e7eae37106dcf9b59be747cc82e74079
CREATED;VALUE=DATE-TIME:20220315T000000Z
CATEGORIES:Agenda institucional
URL:https://www.canetdemar.cat/document.php?id=22672
END:VEVENT
END:VCALENDAR