BEGIN:VCALENDAR
VERSION:2.0
PRODID:-//Plone.org//NONSGML plone.app.event//EN
X-WR-TIMEZONE:Europe/Madrid
BEGIN:VEVENT
SUMMARY:Entrega de premis del I torneig del Dia de la Dona de botxes
DTSTART;TZID=Europe/Madrid;VALUE=DATE-TIME:20220312T120000
DTEND;TZID=Europe/Madrid;VALUE=DATE-TIME:20220312T130000
DTSTAMP;VALUE=DATE-TIME:20260420T140842Z
UID:c208c69d642b194c63907c7f65e3b912
CREATED;VALUE=DATE-TIME:20220312T000000Z
CATEGORIES:Agenda institucional
URL:https://www.canetdemar.cat/document.php?id=22671
END:VEVENT
END:VCALENDAR