BEGIN:VCALENDAR
VERSION:2.0
PRODID:-//Plone.org//NONSGML plone.app.event//EN
X-WR-TIMEZONE:Europe/Madrid
BEGIN:VEVENT
SUMMARY:Reunió comunitat ucraïnesa de Canet de Mar
DTSTART;TZID=Europe/Madrid;VALUE=DATE-TIME:20220312T090000
DTEND;TZID=Europe/Madrid;VALUE=DATE-TIME:20220312T100000
DTSTAMP;VALUE=DATE-TIME:20260420T140508Z
UID:4ff3edb7a6dfa7ab5f55c339e55d4447
CREATED;VALUE=DATE-TIME:20220312T000000Z
CATEGORIES:Agenda institucional
LOCATION:Sala de plens
URL:https://www.canetdemar.cat/document.php?id=22670
END:VEVENT
END:VCALENDAR