BEGIN:VCALENDAR
VERSION:2.0
PRODID:-//Plone.org//NONSGML plone.app.event//EN
X-WR-TIMEZONE:Europe/Madrid
BEGIN:VEVENT
SUMMARY:Assistència acte 8M
DTSTART;TZID=Europe/Madrid;VALUE=DATE-TIME:20220311T170000
DTEND;TZID=Europe/Madrid;VALUE=DATE-TIME:20220311T180000
DTSTAMP;VALUE=DATE-TIME:20260420T140735Z
UID:3bea51659e1b8af4c3cde9ab11f49e32
CREATED;VALUE=DATE-TIME:20220311T000000Z
CATEGORIES:Agenda institucional
LOCATION:Aula Magna CRTTT - Escola de Teixits
URL:https://www.canetdemar.cat/document.php?id=22669
END:VEVENT
END:VCALENDAR