BEGIN:VCALENDAR
VERSION:2.0
PRODID:-//Plone.org//NONSGML plone.app.event//EN
X-WR-TIMEZONE:Europe/Madrid
BEGIN:VEVENT
SUMMARY:Reunió amb una canetenca
DTSTART;TZID=Europe/Madrid;VALUE=DATE-TIME:20220310T100000
DTEND;TZID=Europe/Madrid;VALUE=DATE-TIME:20220310T110000
DTSTAMP;VALUE=DATE-TIME:20260420T135700Z
UID:1c796387b65f18a2df61faec5029eb78
CREATED;VALUE=DATE-TIME:20220310T000000Z
CATEGORIES:Agenda institucional
LOCATION:Sala annexa Alcaldia
URL:https://www.canetdemar.cat/document.php?id=22667
END:VEVENT
END:VCALENDAR