BEGIN:VCALENDAR
VERSION:2.0
PRODID:-//Plone.org//NONSGML plone.app.event//EN
X-WR-TIMEZONE:Europe/Madrid
BEGIN:VEVENT
SUMMARY:Reunió amb un treballador de l'Ajuntament
DTSTART;TZID=Europe/Madrid;VALUE=DATE-TIME:20220309T140000
DTEND;TZID=Europe/Madrid;VALUE=DATE-TIME:20220309T150000
DTSTAMP;VALUE=DATE-TIME:20260420T135715Z
UID:9d2ad36e304df5f0965ab44f46e7cc58
CREATED;VALUE=DATE-TIME:20220309T000000Z
CATEGORIES:Agenda institucional
LOCATION:Sala annexa Alcaldia
URL:https://www.canetdemar.cat/document.php?id=22666
END:VEVENT
END:VCALENDAR