BEGIN:VCALENDAR
VERSION:2.0
PRODID:-//Plone.org//NONSGML plone.app.event//EN
X-WR-TIMEZONE:Europe/Madrid
BEGIN:VEVENT
SUMMARY:Activitat 8M
DTSTART;TZID=Europe/Madrid;VALUE=DATE-TIME:20220308T194500
DTEND;TZID=Europe/Madrid;VALUE=DATE-TIME:20220308T204500
DTSTAMP;VALUE=DATE-TIME:20260424T183211Z
UID:cb5df59c35063bdff7518b96dee4e999
CREATED;VALUE=DATE-TIME:20220308T000000Z
CATEGORIES:Agenda institucional
LOCATION:Biblioteca P. Gual i Pujadas
URL:https://www.canetdemar.cat/document.php?id=22664
END:VEVENT
END:VCALENDAR