BEGIN:VCALENDAR
VERSION:2.0
PRODID:-//Plone.org//NONSGML plone.app.event//EN
X-WR-TIMEZONE:Europe/Madrid
BEGIN:VEVENT
SUMMARY:Reunió amb un empresari del poble
DTSTART;TZID=Europe/Madrid;VALUE=DATE-TIME:20220303T093000
DTEND;TZID=Europe/Madrid;VALUE=DATE-TIME:20220303T103000
DTSTAMP;VALUE=DATE-TIME:20260425T233125Z
UID:e72dbc2555806587af6e0eeea679f35c
CREATED;VALUE=DATE-TIME:20220303T000000Z
CATEGORIES:Agenda institucional
LOCATION:Sala annexa Alcaldia
URL:https://www.canetdemar.cat/document.php?id=22658
END:VEVENT
END:VCALENDAR