BEGIN:VCALENDAR
VERSION:2.0
PRODID:-//Plone.org//NONSGML plone.app.event//EN
X-WR-TIMEZONE:Europe/Madrid
BEGIN:VEVENT
SUMMARY:Acte per la Pau i en suport a la societat ucraïnesa
DTSTART;TZID=Europe/Madrid;VALUE=DATE-TIME:20220302T080000
DTEND;TZID=Europe/Madrid;VALUE=DATE-TIME:20220302T090000
DTSTAMP;VALUE=DATE-TIME:20260420T073615Z
UID:74f90ab2a725968d21b3bbda1dfa913a
CREATED;VALUE=DATE-TIME:20220302T000000Z
CATEGORIES:Agenda institucional
LOCATION:Plaça Macià
URL:https://www.canetdemar.cat/document.php?id=22656
END:VEVENT
END:VCALENDAR