BEGIN:VCALENDAR
VERSION:2.0
PRODID:-//Plone.org//NONSGML plone.app.event//EN
X-WR-TIMEZONE:Europe/Madrid
BEGIN:VEVENT
SUMMARY:Trobada amb una veïna de Canet
DTSTART;TZID=Europe/Madrid;VALUE=DATE-TIME:20220302T103000
DTEND;TZID=Europe/Madrid;VALUE=DATE-TIME:20220302T113000
DTSTAMP;VALUE=DATE-TIME:20260420T073911Z
UID:0b7dafe7e6e1909b4c41ee2fcc7fdfc2
CREATED;VALUE=DATE-TIME:20220302T000000Z
CATEGORIES:Agenda institucional
LOCATION:Sala annexa Alcaldia
URL:https://www.canetdemar.cat/document.php?id=22654
END:VEVENT
END:VCALENDAR