BEGIN:VCALENDAR
VERSION:2.0
PRODID:-//Plone.org//NONSGML plone.app.event//EN
X-WR-TIMEZONE:Europe/Madrid
BEGIN:VEVENT
SUMMARY:Concentració de suport a la comunitat ucraïnesa
DTSTART;TZID=Europe/Madrid;VALUE=DATE-TIME:20220301T190000
DTEND;TZID=Europe/Madrid;VALUE=DATE-TIME:20220301T200000
DTSTAMP;VALUE=DATE-TIME:20260420T073645Z
UID:f49f0abb656edbd433c16b0bc8e79c0b
CREATED;VALUE=DATE-TIME:20220301T000000Z
CATEGORIES:Agenda institucional
LOCATION:Ajuntament de Canet de Mar - Carrer Ample, 11
URL:https://www.canetdemar.cat/document.php?id=22653
END:VEVENT
END:VCALENDAR