BEGIN:VCALENDAR
VERSION:2.0
PRODID:-//Plone.org//NONSGML plone.app.event//EN
X-WR-TIMEZONE:Europe/Madrid
BEGIN:VEVENT
SUMMARY:Presentació llibre 'La Vall de la Llum' de Toni Cruanyes
DTSTART;TZID=Europe/Madrid;VALUE=DATE-TIME:20220226T120000
DTEND;TZID=Europe/Madrid;VALUE=DATE-TIME:20220226T130000
DTSTAMP;VALUE=DATE-TIME:20260420T065711Z
UID:ba2c0125822d97780d6a5fb99fe40d8c
CREATED;VALUE=DATE-TIME:20220226T000000Z
CATEGORIES:Agenda institucional
LOCATION:Sala Centru del TMC
URL:https://www.canetdemar.cat/document.php?id=22651
END:VEVENT
END:VCALENDAR