BEGIN:VCALENDAR
VERSION:2.0
PRODID:-//Plone.org//NONSGML plone.app.event//EN
X-WR-TIMEZONE:Europe/Madrid
BEGIN:VEVENT
SUMMARY:Reunió ordenança de circulació
DTSTART;TZID=Europe/Madrid;VALUE=DATE-TIME:20220225T130000
DTEND;TZID=Europe/Madrid;VALUE=DATE-TIME:20220225T140000
DTSTAMP;VALUE=DATE-TIME:20260420T051830Z
UID:5492639c98add11038f9143e13bfe3ef
CREATED;VALUE=DATE-TIME:20220225T000000Z
CATEGORIES:Agenda institucional
LOCATION:Sala annexa Alcaldia
URL:https://www.canetdemar.cat/document.php?id=22650
END:VEVENT
END:VCALENDAR