BEGIN:VCALENDAR
VERSION:2.0
PRODID:-//Plone.org//NONSGML plone.app.event//EN
X-WR-TIMEZONE:Europe/Madrid
BEGIN:VEVENT
SUMMARY:Reunió de coordinació Àrea d'informàtica
DTSTART;TZID=Europe/Madrid;VALUE=DATE-TIME:20220222T150000
DTEND;TZID=Europe/Madrid;VALUE=DATE-TIME:20220222T160000
DTSTAMP;VALUE=DATE-TIME:20260420T065810Z
UID:252452c535cbc55e7934c22b209f972d
CREATED;VALUE=DATE-TIME:20220222T000000Z
CATEGORIES:Agenda institucional
URL:https://www.canetdemar.cat/document.php?id=22645
END:VEVENT
END:VCALENDAR