BEGIN:VCALENDAR
VERSION:2.0
PRODID:-//Plone.org//NONSGML plone.app.event//EN
X-WR-TIMEZONE:Europe/Madrid
BEGIN:VEVENT
SUMMARY:Premis VOC. Mostra d'audiovisual en català
DTSTART;TZID=Europe/Madrid;VALUE=DATE-TIME:20220218T190000
DTEND;TZID=Europe/Madrid;VALUE=DATE-TIME:20220218T200000
DTSTAMP;VALUE=DATE-TIME:20260420T073659Z
UID:674efaba33906130ce89e9f83532b21b
CREATED;VALUE=DATE-TIME:20220218T000000Z
CATEGORIES:Agenda institucional
LOCATION:Aula Magna CRTTT - Escola de Teixits
URL:https://www.canetdemar.cat/document.php?id=22641
END:VEVENT
END:VCALENDAR