BEGIN:VCALENDAR
VERSION:2.0
PRODID:-//Plone.org//NONSGML plone.app.event//EN
X-WR-TIMEZONE:Europe/Madrid
BEGIN:VEVENT
SUMMARY:Trobada amb la PIMEC - Presentació del projecte 2030
DTSTART;TZID=Europe/Madrid;VALUE=DATE-TIME:20220218T123000
DTEND;TZID=Europe/Madrid;VALUE=DATE-TIME:20220218T133000
DTSTAMP;VALUE=DATE-TIME:20260420T073858Z
UID:44819571fa5564de277483c508c5addd
CREATED;VALUE=DATE-TIME:20220218T000000Z
CATEGORIES:Agenda institucional
URL:https://www.canetdemar.cat/document.php?id=22640
END:VEVENT
END:VCALENDAR