BEGIN:VCALENDAR
VERSION:2.0
PRODID:-//Plone.org//NONSGML plone.app.event//EN
X-WR-TIMEZONE:Europe/Madrid
BEGIN:VEVENT
SUMMARY:Trobada amb una veïna de Canet de Mar
DTSTART;TZID=Europe/Madrid;VALUE=DATE-TIME:20220218T110000
DTEND;TZID=Europe/Madrid;VALUE=DATE-TIME:20220218T120000
DTSTAMP;VALUE=DATE-TIME:20260420T073733Z
UID:909117e4d0ba8491ce46fc4138c6abba
CREATED;VALUE=DATE-TIME:20220218T000000Z
CATEGORIES:Agenda institucional
LOCATION:Sala annexa Alcaldia
URL:https://www.canetdemar.cat/document.php?id=22639
END:VEVENT
END:VCALENDAR