BEGIN:VCALENDAR
VERSION:2.0
PRODID:-//Plone.org//NONSGML plone.app.event//EN
X-WR-TIMEZONE:Europe/Madrid
BEGIN:VEVENT
SUMMARY:Mesa licitació contractació obres reasfaltat de carrers
DTSTART;TZID=Europe/Madrid;VALUE=DATE-TIME:20220218T093000
DTEND;TZID=Europe/Madrid;VALUE=DATE-TIME:20220218T103000
DTSTAMP;VALUE=DATE-TIME:20260420T085912Z
UID:d08002ee905455dc6786d53ff7f02e6c
CREATED;VALUE=DATE-TIME:20220218T000000Z
CATEGORIES:Agenda institucional
LOCATION:Sala annexa Alcaldia
URL:https://www.canetdemar.cat/document.php?id=22637
END:VEVENT
END:VCALENDAR