BEGIN:VCALENDAR
VERSION:2.0
PRODID:-//Plone.org//NONSGML plone.app.event//EN
X-WR-TIMEZONE:Europe/Madrid
BEGIN:VEVENT
SUMMARY:Mesa licitació contractació de la renovació de l'enllumenat NII
DTSTART;TZID=Europe/Madrid;VALUE=DATE-TIME:20220218T090000
DTEND;TZID=Europe/Madrid;VALUE=DATE-TIME:20220218T100000
DTSTAMP;VALUE=DATE-TIME:20260420T074016Z
UID:4d355772f7805d9fefcd177be03049f6
CREATED;VALUE=DATE-TIME:20220218T000000Z
CATEGORIES:Agenda institucional
LOCATION:Sala annexa Alcaldia
URL:https://www.canetdemar.cat/document.php?id=22636
END:VEVENT
END:VCALENDAR