BEGIN:VCALENDAR
VERSION:2.0
PRODID:-//Plone.org//NONSGML plone.app.event//EN
X-WR-TIMEZONE:Europe/Madrid
BEGIN:VEVENT
SUMMARY:Reunió per tractar temes relacionats amb les aus al municipi
DTSTART;TZID=Europe/Madrid;VALUE=DATE-TIME:20220217T120000
DTEND;TZID=Europe/Madrid;VALUE=DATE-TIME:20220217T130000
DTSTAMP;VALUE=DATE-TIME:20260424T203729Z
UID:10f00be1982fcd0495c6ca2b6d33df9e
CREATED;VALUE=DATE-TIME:20220217T000000Z
CATEGORIES:Agenda institucional
LOCATION:Sala annexa Alcaldia
URL:https://www.canetdemar.cat/document.php?id=22634
END:VEVENT
END:VCALENDAR