BEGIN:VCALENDAR
VERSION:2.0
PRODID:-//Plone.org//NONSGML plone.app.event//EN
X-WR-TIMEZONE:Europe/Madrid
BEGIN:VEVENT
SUMMARY:Visita establiments campanya 'Comerç Verd'
DTSTART;TZID=Europe/Madrid;VALUE=DATE-TIME:20220217T100000
DTEND;TZID=Europe/Madrid;VALUE=DATE-TIME:20220217T110000
DTSTAMP;VALUE=DATE-TIME:20260420T073836Z
UID:55b1e040b6aefe21b7d46f01b87e76aa
CREATED;VALUE=DATE-TIME:20220217T000000Z
CATEGORIES:Agenda institucional
URL:https://www.canetdemar.cat/document.php?id=22633
END:VEVENT
END:VCALENDAR