BEGIN:VCALENDAR
VERSION:2.0
PRODID:-//Plone.org//NONSGML plone.app.event//EN
X-WR-TIMEZONE:Europe/Madrid
BEGIN:VEVENT
SUMMARY:Acte institucional d'inauguració de la Sala Centru del TMC
DTSTART;TZID=Europe/Madrid;VALUE=DATE-TIME:20220219T110000
DTEND;TZID=Europe/Madrid;VALUE=DATE-TIME:20220219T120000
DTSTAMP;VALUE=DATE-TIME:20260420T083750Z
UID:8f763ffe98b387365e78d5b350ca3cc8
CREATED;VALUE=DATE-TIME:20220219T000000Z
CATEGORIES:Agenda institucional
LOCATION:Sala Centru - TMC
URL:https://www.canetdemar.cat/document.php?id=22632
END:VEVENT
END:VCALENDAR