BEGIN:VCALENDAR
VERSION:2.0
PRODID:-//Plone.org//NONSGML plone.app.event//EN
X-WR-TIMEZONE:Europe/Madrid
BEGIN:VEVENT
SUMMARY:Signatura del convèni d'adhesió de la Generalitat de Catalunya a la Taula Domènech i Montaner
DTSTART;TZID=Europe/Madrid;VALUE=DATE-TIME:20220219T090000
DTEND;TZID=Europe/Madrid;VALUE=DATE-TIME:20220219T100000
DTSTAMP;VALUE=DATE-TIME:20260420T085958Z
UID:82b403b016d6243497a996085e6175f6
CREATED;VALUE=DATE-TIME:20220219T000000Z
CATEGORIES:Agenda institucional
LOCATION:Casa Museu Lluís Domènech i Montaner
URL:https://www.canetdemar.cat/document.php?id=22631
END:VEVENT
END:VCALENDAR