BEGIN:VCALENDAR
VERSION:2.0
PRODID:-//Plone.org//NONSGML plone.app.event//EN
X-WR-TIMEZONE:Europe/Madrid
BEGIN:VEVENT
SUMMARY:Prova llums façana Ajuntament
DTSTART;TZID=Europe/Madrid;VALUE=DATE-TIME:20220216T190000
DTEND;TZID=Europe/Madrid;VALUE=DATE-TIME:20220216T200000
DTSTAMP;VALUE=DATE-TIME:20260420T073927Z
UID:2ddf25eafa8370c659bb2abbd6fd9cf5
CREATED;VALUE=DATE-TIME:20220216T000000Z
CATEGORIES:Agenda institucional
LOCATION:Carrer Ample, 11
URL:https://www.canetdemar.cat/document.php?id=22630
END:VEVENT
END:VCALENDAR