BEGIN:VCALENDAR
VERSION:2.0
PRODID:-//Plone.org//NONSGML plone.app.event//EN
X-WR-TIMEZONE:Europe/Madrid
BEGIN:VEVENT
SUMMARY:Trobada per tractar temes relacionats amb RLT
DTSTART;TZID=Europe/Madrid;VALUE=DATE-TIME:20220211T123000
DTEND;TZID=Europe/Madrid;VALUE=DATE-TIME:20220211T133000
DTSTAMP;VALUE=DATE-TIME:20260425T223415Z
UID:6fd1f33541db985ac9f6183da06d7eb9
CREATED;VALUE=DATE-TIME:20220211T000000Z
CATEGORIES:Agenda institucional
LOCATION:Sala annexa Alcaldia
URL:https://www.canetdemar.cat/document.php?id=22626
END:VEVENT
END:VCALENDAR