BEGIN:VCALENDAR
VERSION:2.0
PRODID:-//Plone.org//NONSGML plone.app.event//EN
X-WR-TIMEZONE:Europe/Madrid
BEGIN:VEVENT
SUMMARY:Reunió amb un veí del municipi
DTSTART;TZID=Europe/Madrid;VALUE=DATE-TIME:20220211T110000
DTEND;TZID=Europe/Madrid;VALUE=DATE-TIME:20220211T120000
DTSTAMP;VALUE=DATE-TIME:20260424T221222Z
UID:0cac06cb260d33b6eba4851e58ffbb65
CREATED;VALUE=DATE-TIME:20220211T000000Z
CATEGORIES:Agenda institucional
URL:https://www.canetdemar.cat/document.php?id=22625
END:VEVENT
END:VCALENDAR