BEGIN:VCALENDAR
VERSION:2.0
PRODID:-//Plone.org//NONSGML plone.app.event//EN
X-WR-TIMEZONE:Europe/Madrid
BEGIN:VEVENT
SUMMARY:Entrevista Ràdio Canet
DTSTART;TZID=Europe/Madrid;VALUE=DATE-TIME:20220210T104500
DTEND;TZID=Europe/Madrid;VALUE=DATE-TIME:20220210T114500
DTSTAMP;VALUE=DATE-TIME:20260420T085942Z
UID:c0e24e727149d76136c0c9dfd6333e7e
CREATED;VALUE=DATE-TIME:20220210T000000Z
CATEGORIES:Agenda institucional
LOCATION:Estudis de Ràdio Canet
URL:https://www.canetdemar.cat/document.php?id=22624
END:VEVENT
END:VCALENDAR