BEGIN:VCALENDAR
VERSION:2.0
PRODID:-//Plone.org//NONSGML plone.app.event//EN
X-WR-TIMEZONE:Europe/Madrid
BEGIN:VEVENT
SUMMARY:Reunió amb els responsables de Correus
DTSTART;TZID=Europe/Madrid;VALUE=DATE-TIME:20220209T120000
DTEND;TZID=Europe/Madrid;VALUE=DATE-TIME:20220209T130000
DTSTAMP;VALUE=DATE-TIME:20260420T090113Z
UID:af0cc31a851c56afed6868be2989762e
CREATED;VALUE=DATE-TIME:20220209T000000Z
CATEGORIES:Agenda institucional
LOCATION:Sala annexa Alcaldia
URL:https://www.canetdemar.cat/document.php?id=22621
END:VEVENT
END:VCALENDAR