BEGIN:VCALENDAR
VERSION:2.0
PRODID:-//Plone.org//NONSGML plone.app.event//EN
X-WR-TIMEZONE:Europe/Madrid
BEGIN:VEVENT
SUMMARY:Trobada amb una veïna de Canet de Mar
DTSTART;TZID=Europe/Madrid;VALUE=DATE-TIME:20220207T120000
DTEND;TZID=Europe/Madrid;VALUE=DATE-TIME:20220207T130000
DTSTAMP;VALUE=DATE-TIME:20260420T101357Z
UID:4bc064ea81abe511f4bf42e10d6170f6
CREATED;VALUE=DATE-TIME:20220207T000000Z
CATEGORIES:Agenda institucional
LOCATION:Sala annexa Alcaldia
URL:https://www.canetdemar.cat/document.php?id=22617
END:VEVENT
END:VCALENDAR