BEGIN:VCALENDAR
VERSION:2.0
PRODID:-//Plone.org//NONSGML plone.app.event//EN
X-WR-TIMEZONE:Europe/Madrid
BEGIN:VEVENT
SUMMARY:Reunió amb l'empresa Seidor
DTSTART;TZID=Europe/Madrid;VALUE=DATE-TIME:20220207T100000
DTEND;TZID=Europe/Madrid;VALUE=DATE-TIME:20220207T110000
DTSTAMP;VALUE=DATE-TIME:20260420T072034Z
UID:ed97c84de718b7e3c0f2abe0c0c82d5b
CREATED;VALUE=DATE-TIME:20220207T000000Z
CATEGORIES:Agenda institucional
LOCATION:Sala annexa Alcaldia
URL:https://www.canetdemar.cat/document.php?id=22616
END:VEVENT
END:VCALENDAR